BEGIN:VCALENDAR
VERSION:2.0
PRODID:-//Episcopal Diocese of Tennessee - Open, Obedient, Responsive - ECPv6.15.20//NONSGML v1.0//EN
CALSCALE:GREGORIAN
METHOD:PUBLISH
X-ORIGINAL-URL:https://edtn.org
X-WR-CALDESC:Events for Episcopal Diocese of Tennessee - Open, Obedient, Responsive
REFRESH-INTERVAL;VALUE=DURATION:PT1H
X-Robots-Tag:noindex
X-PUBLISHED-TTL:PT1H
BEGIN:VTIMEZONE
TZID:America/Chicago
BEGIN:DAYLIGHT
TZOFFSETFROM:-0600
TZOFFSETTO:-0500
TZNAME:CDT
DTSTART:20240310T080000
END:DAYLIGHT
BEGIN:STANDARD
TZOFFSETFROM:-0500
TZOFFSETTO:-0600
TZNAME:CST
DTSTART:20241103T070000
END:STANDARD
BEGIN:DAYLIGHT
TZOFFSETFROM:-0600
TZOFFSETTO:-0500
TZNAME:CDT
DTSTART:20250309T080000
END:DAYLIGHT
BEGIN:STANDARD
TZOFFSETFROM:-0500
TZOFFSETTO:-0600
TZNAME:CST
DTSTART:20251102T070000
END:STANDARD
BEGIN:DAYLIGHT
TZOFFSETFROM:-0600
TZOFFSETTO:-0500
TZNAME:CDT
DTSTART:20260308T080000
END:DAYLIGHT
BEGIN:STANDARD
TZOFFSETFROM:-0500
TZOFFSETTO:-0600
TZNAME:CST
DTSTART:20261101T070000
END:STANDARD
END:VTIMEZONE
BEGIN:VEVENT
DTSTART;TZID=America/Chicago:20250803T080000
DTEND;TZID=America/Chicago:20250803T120000
DTSTAMP:20260422T061809
CREATED:20250128T213000Z
LAST-MODIFIED:20250128T213001Z
UID:10000623-1754208000-1754222400@edtn.org
SUMMARY:St. Ann's Church\, Nashville Visitation
DESCRIPTION:
URL:https://edtn.org/event/st-anns-church-nashville-visitation-3/
LOCATION:St. Ann’s Church\, Nashville\, 419 Woodland Street\, Nashville\, Tennessee\, 37206\, United States
GEO:36.1720498;-86.7655693
X-APPLE-STRUCTURED-LOCATION;VALUE=URI;X-ADDRESS=St. Ann’s Church Nashville 419 Woodland Street Nashville Tennessee 37206 United States;X-APPLE-RADIUS=500;X-TITLE=419 Woodland Street:geo:-86.7655693,36.1720498
END:VEVENT
BEGIN:VEVENT
DTSTART;TZID=America/Chicago:20250807T123000
DTEND;TZID=America/Chicago:20250807T133000
DTSTAMP:20260422T061809
CREATED:20240718T160427Z
LAST-MODIFIED:20240718T160429Z
UID:10000550-1754569800-1754573400@edtn.org
SUMMARY:Zoom Class: Reading the Church Fathers
DESCRIPTION:The Diocesan Christian Formation Committee is offering a weekly reading group called “Reading the Church Fathers.” The group will begin on Thursday\, August 29 and meet weekly from 12:30-1:30pm through mid to late 2025. This group is open to all clergy and lay members. More information and link to come!
URL:https://edtn.org/event/zoom-class-reading-the-church-fathers/2025-08-07/
END:VEVENT
BEGIN:VEVENT
DTSTART;TZID=America/Chicago:20250810T080000
DTEND;TZID=America/Chicago:20250810T120000
DTSTAMP:20260422T061809
CREATED:20250128T213100Z
LAST-MODIFIED:20250128T213101Z
UID:10000624-1754812800-1754827200@edtn.org
SUMMARY:Laymen's Conference
DESCRIPTION:
URL:https://edtn.org/event/laymens-conference-2/
LOCATION:St. Mary’s Retreat Center\, 770 St. Mary's Lane\, Sewanee\, Tennessee\, 37375\, United States
GEO:35.173563;-85.9444241
X-APPLE-STRUCTURED-LOCATION;VALUE=URI;X-ADDRESS=St. Mary’s Retreat Center 770 St. Mary's Lane Sewanee Tennessee 37375 United States;X-APPLE-RADIUS=500;X-TITLE=770 St. Mary's Lane:geo:-85.9444241,35.173563
END:VEVENT
BEGIN:VEVENT
DTSTART;TZID=America/Chicago:20250814T123000
DTEND;TZID=America/Chicago:20250814T133000
DTSTAMP:20260422T061809
CREATED:20240718T160427Z
LAST-MODIFIED:20240718T160429Z
UID:10000551-1755174600-1755178200@edtn.org
SUMMARY:Zoom Class: Reading the Church Fathers
DESCRIPTION:The Diocesan Christian Formation Committee is offering a weekly reading group called “Reading the Church Fathers.” The group will begin on Thursday\, August 29 and meet weekly from 12:30-1:30pm through mid to late 2025. This group is open to all clergy and lay members. More information and link to come!
URL:https://edtn.org/event/zoom-class-reading-the-church-fathers/2025-08-14/
END:VEVENT
BEGIN:VEVENT
DTSTART;TZID=America/Chicago:20250817T080000
DTEND;TZID=America/Chicago:20250817T120000
DTSTAMP:20260422T061809
CREATED:20250128T213636Z
LAST-MODIFIED:20250128T213637Z
UID:10000625-1755417600-1755432000@edtn.org
SUMMARY:St. Anselm's Church\, Nashville
DESCRIPTION:
URL:https://edtn.org/event/st-anselms-church-nashville/
LOCATION:St. Anselm’s Church\, 2008 Meharry Blvd\, Nashville\, Tennessee\, 37208\, United States
GEO:36.1682827;-86.8082666
X-APPLE-STRUCTURED-LOCATION;VALUE=URI;X-ADDRESS=St. Anselm’s Church 2008 Meharry Blvd Nashville Tennessee 37208 United States;X-APPLE-RADIUS=500;X-TITLE=2008 Meharry Blvd:geo:-86.8082666,36.1682827
END:VEVENT
BEGIN:VEVENT
DTSTART;TZID=America/Chicago:20250821T123000
DTEND;TZID=America/Chicago:20250821T133000
DTSTAMP:20260422T061809
CREATED:20240718T160427Z
LAST-MODIFIED:20240718T160429Z
UID:10000552-1755779400-1755783000@edtn.org
SUMMARY:Zoom Class: Reading the Church Fathers
DESCRIPTION:The Diocesan Christian Formation Committee is offering a weekly reading group called “Reading the Church Fathers.” The group will begin on Thursday\, August 29 and meet weekly from 12:30-1:30pm through mid to late 2025. This group is open to all clergy and lay members. More information and link to come!
URL:https://edtn.org/event/zoom-class-reading-the-church-fathers/2025-08-21/
END:VEVENT
BEGIN:VEVENT
DTSTART;TZID=America/Chicago:20250824T080000
DTEND;TZID=America/Chicago:20250824T170000
DTSTAMP:20260422T061809
CREATED:20250128T213741Z
LAST-MODIFIED:20250128T213742Z
UID:10000626-1756022400-1756054800@edtn.org
SUMMARY:St. James Church\, Sewanee Visitation
DESCRIPTION:
URL:https://edtn.org/event/st-james-church-sewanee-visitation-3/
LOCATION:St. James Church\, Sewanee\, 898 Midway Road\, Sewanee\, Tennessee\, 37375\, United States
GEO:35.2085068;-85.8836825
X-APPLE-STRUCTURED-LOCATION;VALUE=URI;X-ADDRESS=St. James Church Sewanee 898 Midway Road Sewanee Tennessee 37375 United States;X-APPLE-RADIUS=500;X-TITLE=898 Midway Road:geo:-85.8836825,35.2085068
END:VEVENT
BEGIN:VEVENT
DTSTART;TZID=America/Chicago:20250828T123000
DTEND;TZID=America/Chicago:20250828T133000
DTSTAMP:20260422T061809
CREATED:20240718T160427Z
LAST-MODIFIED:20240718T160429Z
UID:10000553-1756384200-1756387800@edtn.org
SUMMARY:Zoom Class: Reading the Church Fathers
DESCRIPTION:The Diocesan Christian Formation Committee is offering a weekly reading group called “Reading the Church Fathers.” The group will begin on Thursday\, August 29 and meet weekly from 12:30-1:30pm through mid to late 2025. This group is open to all clergy and lay members. More information and link to come!
URL:https://edtn.org/event/zoom-class-reading-the-church-fathers/2025-08-28/
END:VEVENT
BEGIN:VEVENT
DTSTART;TZID=America/Chicago:20250831T080000
DTEND;TZID=America/Chicago:20250831T120000
DTSTAMP:20260422T061809
CREATED:20250128T214014Z
LAST-MODIFIED:20250129T170013Z
UID:10000627-1756627200-1756641600@edtn.org
SUMMARY:St. James Church\, Dickson & Calvary Church\, Cumberland Furnace Visitation
DESCRIPTION:
URL:https://edtn.org/event/st-james-church-dickson-calvary-church-cumberland-furnace-visitation/
LOCATION:St. James Church\, 205 Church Street\, Dickson\, Tennessee\, 37055\, United States
GEO:36.0763849;-87.3862654
X-APPLE-STRUCTURED-LOCATION;VALUE=URI;X-ADDRESS=St. James Church 205 Church Street Dickson Tennessee 37055 United States;X-APPLE-RADIUS=500;X-TITLE=205 Church Street:geo:-87.3862654,36.0763849
END:VEVENT
END:VCALENDAR