BEGIN:VCALENDAR
VERSION:2.0
PRODID:-//Episcopal Diocese of Tennessee - Open, Obedient, Responsive - ECPv6.15.20//NONSGML v1.0//EN
CALSCALE:GREGORIAN
METHOD:PUBLISH
X-WR-CALNAME:Episcopal Diocese of Tennessee - Open, Obedient, Responsive
X-ORIGINAL-URL:https://edtn.org
X-WR-CALDESC:Events for Episcopal Diocese of Tennessee - Open, Obedient, Responsive
REFRESH-INTERVAL;VALUE=DURATION:PT1H
X-Robots-Tag:noindex
X-PUBLISHED-TTL:PT1H
BEGIN:VTIMEZONE
TZID:America/Chicago
BEGIN:DAYLIGHT
TZOFFSETFROM:-0600
TZOFFSETTO:-0500
TZNAME:CDT
DTSTART:20250309T080000
END:DAYLIGHT
BEGIN:STANDARD
TZOFFSETFROM:-0500
TZOFFSETTO:-0600
TZNAME:CST
DTSTART:20251102T070000
END:STANDARD
BEGIN:DAYLIGHT
TZOFFSETFROM:-0600
TZOFFSETTO:-0500
TZNAME:CDT
DTSTART:20260308T080000
END:DAYLIGHT
BEGIN:STANDARD
TZOFFSETFROM:-0500
TZOFFSETTO:-0600
TZNAME:CST
DTSTART:20261101T070000
END:STANDARD
BEGIN:DAYLIGHT
TZOFFSETFROM:-0600
TZOFFSETTO:-0500
TZNAME:CDT
DTSTART:20270314T080000
END:DAYLIGHT
BEGIN:STANDARD
TZOFFSETFROM:-0500
TZOFFSETTO:-0600
TZNAME:CST
DTSTART:20271107T070000
END:STANDARD
END:VTIMEZONE
BEGIN:VEVENT
DTSTART;TZID=America/Chicago:20261213T080000
DTEND;TZID=America/Chicago:20261213T120000
DTSTAMP:20260422T061906
CREATED:20251113T171902Z
LAST-MODIFIED:20251113T171904Z
UID:10000705-1797148800-1797163200@edtn.org
SUMMARY:St. David's Nashville\, Visitation
DESCRIPTION:
URL:https://edtn.org/event/st-davids-nashville-visitation/
LOCATION:St. David’s Church\, 6501 Pennywell Drive\, Nashville\, Tennessee\, 37205\, United States
GEO:36.1148051;-86.9004575
X-APPLE-STRUCTURED-LOCATION;VALUE=URI;X-ADDRESS=St. David’s Church 6501 Pennywell Drive Nashville Tennessee 37205 United States;X-APPLE-RADIUS=500;X-TITLE=6501 Pennywell Drive:geo:-86.9004575,36.1148051
END:VEVENT
END:VCALENDAR